BEGIN:VCALENDAR
VERSION:2.0
PRODID:-//Measurement Resources - ECPv6.15.20//NONSGML v1.0//EN
CALSCALE:GREGORIAN
METHOD:PUBLISH
X-ORIGINAL-URL:https://measurementresourcesco.com
X-WR-CALDESC:Events for Measurement Resources
REFRESH-INTERVAL;VALUE=DURATION:PT1H
X-Robots-Tag:noindex
X-PUBLISHED-TTL:PT1H
BEGIN:VTIMEZONE
TZID:America/New_York
BEGIN:DAYLIGHT
TZOFFSETFROM:-0500
TZOFFSETTO:-0400
TZNAME:EDT
DTSTART:20210314T070000
END:DAYLIGHT
BEGIN:STANDARD
TZOFFSETFROM:-0400
TZOFFSETTO:-0500
TZNAME:EST
DTSTART:20211107T060000
END:STANDARD
BEGIN:DAYLIGHT
TZOFFSETFROM:-0500
TZOFFSETTO:-0400
TZNAME:EDT
DTSTART:20220313T070000
END:DAYLIGHT
BEGIN:STANDARD
TZOFFSETFROM:-0400
TZOFFSETTO:-0500
TZNAME:EST
DTSTART:20221106T060000
END:STANDARD
BEGIN:DAYLIGHT
TZOFFSETFROM:-0500
TZOFFSETTO:-0400
TZNAME:EDT
DTSTART:20230312T070000
END:DAYLIGHT
BEGIN:STANDARD
TZOFFSETFROM:-0400
TZOFFSETTO:-0500
TZNAME:EST
DTSTART:20231105T060000
END:STANDARD
END:VTIMEZONE
BEGIN:VEVENT
DTSTART;TZID=America/New_York:20221012T170000
DTEND;TZID=America/New_York:20221012T203000
DTSTAMP:20260425T114704
CREATED:20220923T171650Z
LAST-MODIFIED:20220923T172848Z
UID:10000024-1665594000-1665606600@measurementresourcesco.com
SUMMARY:Women's Small Business Accelerator's 10th Anniversary Gala
DESCRIPTION:Join the Women’s Small Business Accelerator (WSBA) for an evening of fun featuring Women Entrepreneurs in Central Ohio.  \n\n\n\nExpand your network and your support system at the WSBA’s Welcome Reception. \n\n\n\nTake a walk through the WSBA Alumni Showcase to meet and see what WSBA alumni have been accomplishing. \n\n\n\nRaise a glass to 10 of the WSBA’s alumni as they tell you their inspiring growth storie \n\n\n\nWith each ticket you purchase\, you’re giving back to women entrepreneurs in Central Ohio. All proceeds raised at this event go toward supporting the WSBA’s programs that help women start\, grow\, and support their businesses.
URL:https://measurementresourcesco.com/event/womens-small-business-accelerators-10th-anniversary-gala/
LOCATION:The Fives\, 550 Reach Blvd.\, Colulmbus\, 43215\, United States
CATEGORIES:In Person,Women's Small Business Accelerator
ATTACH;FMTTYPE=image/jpeg:https://measurementresourcesco.com/wp-content/uploads/2022/09/WSBA-Gala.jpg
END:VEVENT
BEGIN:VEVENT
DTSTART;TZID=America/New_York:20221004T180000
DTEND;TZID=America/New_York:20221004T203000
DTSTAMP:20260425T114704
CREATED:20220923T161225Z
LAST-MODIFIED:20220923T173042Z
UID:10000022-1664906400-1664915400@measurementresourcesco.com
SUMMARY:SocialVentures' Positioned to Prosper
DESCRIPTION:Measurement Resources is proud to sponsor SocialVentures’ Positioned to Prosper event. Join us as we celebrate Central Ohio’s social enterprise community and the launch of SocialVentures’ new signature program\, WISE: WOMEN IN SOCIAL ENTERPRISE. \n\n\n\nPositioned to Prosper is SocialVentures’ annual fundraiser and will feature a compelling conversation with entrepreneur and global trailblazer Kimberly Blackwell. The cost is $74 per person to attend.
URL:https://measurementresourcesco.com/event/socialventures-positioned-to-prosper/
LOCATION:The Fives\, 550 Reach Blvd.\, Colulmbus\, 43215\, United States
CATEGORIES:In Person,SocialVentures
ATTACH;FMTTYPE=image/png:https://measurementresourcesco.com/wp-content/uploads/2022/09/PtP2022.png
END:VEVENT
BEGIN:VEVENT
DTSTART;TZID=America/New_York:20220428T170000
DTEND;TZID=America/New_York:20220428T190000
DTSTAMP:20260425T114704
CREATED:20220420T174149Z
LAST-MODIFIED:20220420T174403Z
UID:10000010-1651165200-1651172400@measurementresourcesco.com
SUMMARY:Community Shares of Mid Ohio’s 30th Anniversary Celebration
DESCRIPTION:  \n\nJoin Community Shares of Mid Ohio for an amazing evening 30 years in the making\, celebrating the people and causes you support. The work of Community Shares of Mid Ohio’s 75 member charities in central Ohio makes our community stronger and more resilient. Measurement Resources is proud to sponsor this event\, in celebration of Community Shares’ mission\, members\, and impact over the past 30 years! \n\n\n\nThis event will take place on April 28\, from 5:00-7:00 p.m.\, at The Fives. \n\n\n\nRegister (and make a donation) today! \n\n 
URL:https://measurementresourcesco.com/event/community-shares-of-mid-ohios-30th-anniversary-celebration/
LOCATION:The Fives\, 550 Reach Blvd.\, Colulmbus\, 43215\, United States
CATEGORIES:In Person
ATTACH;FMTTYPE=image/jpeg:https://measurementresourcesco.com/wp-content/uploads/2022/04/community-shares-2022.jpg
END:VEVENT
END:VCALENDAR