BEGIN:VCALENDAR
VERSION:2.0
PRODID:-//Measurement Resources - ECPv6.15.20//NONSGML v1.0//EN
CALSCALE:GREGORIAN
METHOD:PUBLISH
X-ORIGINAL-URL:https://measurementresourcesco.com
X-WR-CALDESC:Events for Measurement Resources
REFRESH-INTERVAL;VALUE=DURATION:PT1H
X-Robots-Tag:noindex
X-PUBLISHED-TTL:PT1H
BEGIN:VTIMEZONE
TZID:America/New_York
BEGIN:DAYLIGHT
TZOFFSETFROM:-0500
TZOFFSETTO:-0400
TZNAME:EDT
DTSTART:20210314T070000
END:DAYLIGHT
BEGIN:STANDARD
TZOFFSETFROM:-0400
TZOFFSETTO:-0500
TZNAME:EST
DTSTART:20211107T060000
END:STANDARD
BEGIN:DAYLIGHT
TZOFFSETFROM:-0500
TZOFFSETTO:-0400
TZNAME:EDT
DTSTART:20220313T070000
END:DAYLIGHT
BEGIN:STANDARD
TZOFFSETFROM:-0400
TZOFFSETTO:-0500
TZNAME:EST
DTSTART:20221106T060000
END:STANDARD
BEGIN:DAYLIGHT
TZOFFSETFROM:-0500
TZOFFSETTO:-0400
TZNAME:EDT
DTSTART:20230312T070000
END:DAYLIGHT
BEGIN:STANDARD
TZOFFSETFROM:-0400
TZOFFSETTO:-0500
TZNAME:EST
DTSTART:20231105T060000
END:STANDARD
END:VTIMEZONE
BEGIN:VEVENT
DTSTART;TZID=America/New_York:20221006T083000
DTEND;TZID=America/New_York:20221006T140000
DTSTAMP:20260425T140628
CREATED:20220923T191839Z
LAST-MODIFIED:20220923T191842Z
UID:10000028-1665045000-1665064800@measurementresourcesco.com
SUMMARY:Women@Work Conference: Charting Your Future
DESCRIPTION:Join the Workforce Development Board of Central Ohio for this one-day career conference to improve your skills\, connect with opportunities\, and inspire you towards your future. \n\n\n\nMeasurement Resources’ Sheri Chaney Jones will be speaking at this event\, along with Danielle Sydnor from the Rise Together Innovation Center\, and Amelia Robinson\, Opinion and Community Engagement Manager with the Columbus Dispatch.
URL:https://measurementresourcesco.com/event/womenwork-conference-charting-your-future/
LOCATION:Greater Columbus Convention Center\, 400 N. High Street\, Columbus\, Ohio\, 43215\, United States
CATEGORIES:In Person
ATTACH;FMTTYPE=image/png:https://measurementresourcesco.com/wp-content/uploads/2022/09/women-work2022.png
END:VEVENT
END:VCALENDAR